BEGIN:VCALENDAR
VERSION:2.0
BEGIN:VEVENT
URL:https://eatonshillhotel.oztix.com.au/outlet/event/fc416896-f5f1-49fb-acbc-23c0c688e41b
DTSTART:20210417T093000Z
DTEND:20210417T093000Z
SUMMARY:Kerser: Roll The Dice National Tour 2021
DESCRIPTION:Event details: https://eatonshillhotel.oztix.com.au/outlet/event/fc416896-f5f1-49fb-acbc-23c0c688e41b
LOCATION:Eatons Hill Hotel - Grand Ballroom (Eatons Hill, QLD)
END:VEVENT
END:VCALENDAR