BEGIN:VCALENDAR
VERSION:2.0
BEGIN:VEVENT
URL:https://eatonshillhotel.oztix.com.au/outlet/event/b901ffc3-f368-4306-9a5c-1e163a7f3f85
DTSTART:20210619T090000Z
DTEND:20210619T090000Z
SUMMARY:So Freshtival Pyjama Party
DESCRIPTION:Event details: https://eatonshillhotel.oztix.com.au/outlet/event/b901ffc3-f368-4306-9a5c-1e163a7f3f85
LOCATION:Eatons Hill Hotel - Grand Ballroom (Eatons Hill, QLD)
END:VEVENT
END:VCALENDAR