BEGIN:VCALENDAR
VERSION:2.0
BEGIN:VEVENT
URL:https://eatonshillhotel.oztix.com.au/outlet/event/ac27e072-3730-4c54-801d-36f98e62e512
DTSTART:20210306T010000Z
DTEND:20210306T010000Z
SUMMARY:8th Annual Brisbane Beer Fest- Eatons Hill Hotel 2021
DESCRIPTION:Event details: https://eatonshillhotel.oztix.com.au/outlet/event/ac27e072-3730-4c54-801d-36f98e62e512
LOCATION:Eatons Hill Hotel - Outdoors (Eatons Hill, QLD)
END:VEVENT
END:VCALENDAR