BEGIN:VCALENDAR
VERSION:2.0
BEGIN:VEVENT
URL:https://eatonshillhotel.oztix.com.au/outlet/event/8171be58-dcce-4543-82ed-651dd7036f9b
DTSTART:20210410T040000Z
DTEND:20210410T040000Z
SUMMARY:Annual Rodeo
DESCRIPTION:Event details: https://eatonshillhotel.oztix.com.au/outlet/event/8171be58-dcce-4543-82ed-651dd7036f9b
LOCATION:Eatons Hill Hotel - Outdoors (Eatons Hill, QLD)
END:VEVENT
END:VCALENDAR