BEGIN:VCALENDAR
VERSION:2.0
BEGIN:VEVENT
URL:https://eatonshillhotel.oztix.com.au/outlet/event/4e13e059-7e20-432d-8df5-2cc7249f3699
DTSTART:20210612T020000Z
DTEND:20210612T020000Z
SUMMARY:FULL TILT
DESCRIPTION:Event details: https://eatonshillhotel.oztix.com.au/outlet/event/4e13e059-7e20-432d-8df5-2cc7249f3699
LOCATION:Eatons Hill Hotel - Outdoors (Eatons Hill, QLD)
END:VEVENT
END:VCALENDAR