BEGIN:VCALENDAR
VERSION:2.0
BEGIN:VEVENT
URL:https://eatonshillhotel.oztix.com.au/outlet/event/47e192f2-18f8-45cf-b427-b5e9d2955c21
DTSTART:20210319T090000Z
DTEND:20210319T090000Z
SUMMARY:Made In The '90s
DESCRIPTION:Event details: https://eatonshillhotel.oztix.com.au/outlet/event/47e192f2-18f8-45cf-b427-b5e9d2955c21
LOCATION:Eatons Hill Hotel - Grand Ballroom (Eatons Hill, QLD)
END:VEVENT
END:VCALENDAR