BEGIN:VCALENDAR
VERSION:2.0
BEGIN:VEVENT
URL:https://eatonshillhotel.oztix.com.au/outlet/event/1693213d-6bda-4831-8037-5382c254ea07
DTSTART:20210520T093000Z
DTEND:20210520T093000Z
SUMMARY:Black Veil Brides
DESCRIPTION:Event details: https://eatonshillhotel.oztix.com.au/outlet/event/1693213d-6bda-4831-8037-5382c254ea07
LOCATION:Eatons Hill Hotel - Grand Ballroom (Eatons Hill, QLD)
END:VEVENT
END:VCALENDAR