BEGIN:VCALENDAR
VERSION:2.0
BEGIN:VEVENT
URL:https://eatonshillhotel.oztix.com.au/outlet/event/0a234b31-62eb-4101-9fd2-aecdea731516
DTSTART:20211106T090000Z
DTEND:20211106T090000Z
SUMMARY:FIVE Greatest Hits Tour
DESCRIPTION:Event details: https://eatonshillhotel.oztix.com.au/outlet/event/0a234b31-62eb-4101-9fd2-aecdea731516
LOCATION:Eatons Hill Hotel - Grand Ballroom (Eatons Hill, QLD)
END:VEVENT
END:VCALENDAR